Package: diffuStats Version: 1.29.0 Command: /Library/Frameworks/R.framework/Resources/bin/R CMD INSTALL diffuStats StartedAt: 2025-10-24 15:07:04 -0400 (Fri, 24 Oct 2025) EndedAt: 2025-10-24 15:07:18 -0400 (Fri, 24 Oct 2025) EllapsedTime: 13.6 seconds RetCode: 0 Status: OK