Package: diffuStats Version: 1.29.0 Command: /Library/Frameworks/R.framework/Resources/bin/R CMD build --keep-empty-dirs --no-resave-data diffuStats StartedAt: 2025-10-24 16:15:34 -0400 (Fri, 24 Oct 2025) EndedAt: 2025-10-24 16:15:54 -0400 (Fri, 24 Oct 2025) EllapsedTime: 20.2 seconds RetCode: 0 Status: OK PackageFile: diffuStats_1.29.0.tar.gz PackageFileSize: 1.331 MiB