Package: diffcyt Version: 1.29.0 Command: /home/biocbuild/bbs-3.22-bioc/R/bin/R CMD INSTALL diffcyt StartedAt: 2025-10-24 15:33:15 -0400 (Fri, 24 Oct 2025) EndedAt: 2025-10-24 15:33:48 -0400 (Fri, 24 Oct 2025) EllapsedTime: 32.5 seconds RetCode: 0 Status: OK