Package: diffcyt Version: 1.29.0 Command: /Library/Frameworks/R.framework/Resources/bin/R CMD INSTALL diffcyt StartedAt: 2025-10-24 15:30:54 -0400 (Fri, 24 Oct 2025) EndedAt: 2025-10-24 15:31:37 -0400 (Fri, 24 Oct 2025) EllapsedTime: 43.0 seconds RetCode: 0 Status: OK