Package: diffcyt Version: 1.29.0 Command: rm -rf diffcyt.buildbin-libdir && mkdir diffcyt.buildbin-libdir && /Users/biocbuild/BBS/utils/build-universal.sh diffcyt_1.29.0.tar.gz /Library/Frameworks/R.framework/Resources/bin/R diffcyt.buildbin-libdir StartedAt: 2025-10-25 01:37:18 -0400 (Sat, 25 Oct 2025) EndedAt: 2025-10-25 01:38:04 -0400 (Sat, 25 Oct 2025) EllapsedTime: 46.2 seconds RetCode: 0 Status: OK PackageFile: diffcyt_1.29.0.tgz PackageFileSize: 864.1 KiB