Package: diffcyt Version: 1.29.0 Command: /Library/Frameworks/R.framework/Resources/bin/R CMD check --install=check:diffcyt.install-out.txt --library=/Library/Frameworks/R.framework/Resources/library --no-vignettes --timings diffcyt_1.29.0.tar.gz StartedAt: 2025-10-24 19:28:11 -0400 (Fri, 24 Oct 2025) EndedAt: 2025-10-24 19:29:55 -0400 (Fri, 24 Oct 2025) EllapsedTime: 104.3 seconds RetCode: 0 Status: OK CheckDir: diffcyt.Rcheck Warnings: 0