Package: diffcyt Version: 1.29.0 Command: /Library/Frameworks/R.framework/Resources/bin/R CMD build --keep-empty-dirs --no-resave-data diffcyt StartedAt: 2025-10-24 16:15:02 -0400 (Fri, 24 Oct 2025) EndedAt: 2025-10-24 16:15:47 -0400 (Fri, 24 Oct 2025) EllapsedTime: 44.5 seconds RetCode: 0 Status: OK PackageFile: diffcyt_1.29.0.tar.gz PackageFileSize: 855.7 KiB