Package: diffcyt Version: 1.29.0 Command: rm -rf diffcyt.buildbin-libdir && mkdir diffcyt.buildbin-libdir && /Users/biocbuild/BBS/utils/build-universal.sh diffcyt_1.29.0.tar.gz /Library/Frameworks/R.framework/Resources/bin/R diffcyt.buildbin-libdir StartedAt: 2025-10-24 23:00:54 -0400 (Fri, 24 Oct 2025) EndedAt: 2025-10-24 23:01:08 -0400 (Fri, 24 Oct 2025) EllapsedTime: 14.3 seconds RetCode: 0 Status: OK PackageFile: diffcyt_1.29.0.tgz PackageFileSize: 866.1 KiB