Package: diffcoexp Version: 1.29.0 Command: /home/biocbuild/R/R/bin/R CMD check --install=check:diffcoexp.install-out.txt --library=/home/biocbuild/R/R/site-library --no-vignettes --timings diffcoexp_1.29.0.tar.gz StartedAt: 2025-10-21 07:29:56 -0000 (Tue, 21 Oct 2025) EndedAt: 2025-10-21 07:34:47 -0000 (Tue, 21 Oct 2025) EllapsedTime: 290.2 seconds RetCode: 0 Status: OK CheckDir: diffcoexp.Rcheck Warnings: 0