Package: diffcoexp Version: 1.29.0 Command: /Library/Frameworks/R.framework/Resources/bin/R CMD check --install=check:diffcoexp.install-out.txt --library=/Library/Frameworks/R.framework/Resources/library --no-vignettes --timings diffcoexp_1.29.0.tar.gz StartedAt: 2025-10-27 21:13:54 -0400 (Mon, 27 Oct 2025) EndedAt: 2025-10-27 21:18:00 -0400 (Mon, 27 Oct 2025) EllapsedTime: 245.9 seconds RetCode: 0 Status: OK CheckDir: diffcoexp.Rcheck Warnings: 0