Package: diffcoexp Version: 1.29.0 Command: rm -rf diffcoexp.buildbin-libdir && mkdir diffcoexp.buildbin-libdir && /Users/biocbuild/BBS/utils/build-universal.sh diffcoexp_1.29.0.tar.gz /Library/Frameworks/R.framework/Resources/bin/R diffcoexp.buildbin-libdir StartedAt: 2025-10-26 22:34:18 -0400 (Sun, 26 Oct 2025) EndedAt: 2025-10-26 22:34:31 -0400 (Sun, 26 Oct 2025) EllapsedTime: 13.2 seconds RetCode: 0 Status: OK PackageFile: diffcoexp_1.29.0.tgz PackageFileSize: 319.3 KiB