Package: diffUTR Version: 1.17.0 Command: /home/biocbuild/R/R/bin/R CMD INSTALL diffUTR StartedAt: 2025-10-23 21:05:15 -0000 (Thu, 23 Oct 2025) EndedAt: 2025-10-23 21:06:15 -0000 (Thu, 23 Oct 2025) EllapsedTime: 59.9 seconds RetCode: 0 Status: OK