Package: diffUTR Version: 1.17.0 Command: /home/biocbuild/R/R/bin/R CMD check --install=check:diffUTR.install-out.txt --library=/home/biocbuild/R/R/site-library --no-vignettes --timings diffUTR_1.17.0.tar.gz StartedAt: 2025-10-21 07:31:48 -0000 (Tue, 21 Oct 2025) EndedAt: 2025-10-21 07:38:18 -0000 (Tue, 21 Oct 2025) EllapsedTime: 389.3 seconds RetCode: 0 Status: OK CheckDir: diffUTR.Rcheck Warnings: 0