Package: diffUTR Version: 1.17.0 Command: /home/biocbuild/R/R/bin/R CMD build --keep-empty-dirs --no-resave-data diffUTR StartedAt: 2025-10-20 23:22:57 -0000 (Mon, 20 Oct 2025) EndedAt: 2025-10-20 23:24:41 -0000 (Mon, 20 Oct 2025) EllapsedTime: 104.0 seconds RetCode: 0 Status: OK PackageFile: diffUTR_1.17.0.tar.gz PackageFileSize: 1.145 MiB