Package: diffUTR Version: 1.17.0 Command: /Library/Frameworks/R.framework/Resources/bin/R CMD INSTALL diffUTR StartedAt: 2025-10-24 15:44:20 -0400 (Fri, 24 Oct 2025) EndedAt: 2025-10-24 15:45:21 -0400 (Fri, 24 Oct 2025) EllapsedTime: 61.6 seconds RetCode: 0 Status: OK