Package: diffUTR Version: 1.17.0 Command: /Library/Frameworks/R.framework/Resources/bin/R CMD check --install=check:diffUTR.install-out.txt --library=/Library/Frameworks/R.framework/Resources/library --no-vignettes --timings diffUTR_1.17.0.tar.gz StartedAt: 2025-10-24 20:48:32 -0400 (Fri, 24 Oct 2025) EndedAt: 2025-10-24 20:54:16 -0400 (Fri, 24 Oct 2025) EllapsedTime: 344.2 seconds RetCode: 0 Status: OK CheckDir: diffUTR.Rcheck Warnings: 0