Package: diffUTR Version: 1.17.0 Command: /Library/Frameworks/R.framework/Resources/bin/R CMD build --keep-empty-dirs --no-resave-data diffUTR StartedAt: 2025-10-24 16:52:32 -0400 (Fri, 24 Oct 2025) EndedAt: 2025-10-24 16:54:05 -0400 (Fri, 24 Oct 2025) EllapsedTime: 92.5 seconds RetCode: 0 Status: OK PackageFile: diffUTR_1.17.0.tar.gz PackageFileSize: 1.382 MiB