Package: diffUTR Version: 1.17.0 Command: rm -rf diffUTR.buildbin-libdir && mkdir diffUTR.buildbin-libdir && /Users/biocbuild/BBS/utils/build-universal.sh diffUTR_1.17.0.tar.gz /Library/Frameworks/R.framework/Resources/bin/R diffUTR.buildbin-libdir StartedAt: 2025-10-25 01:37:23 -0400 (Sat, 25 Oct 2025) EndedAt: 2025-10-25 01:38:27 -0400 (Sat, 25 Oct 2025) EllapsedTime: 64.6 seconds RetCode: 0 Status: OK PackageFile: diffUTR_1.17.0.tgz PackageFileSize: 1.429 MiB