Package: diffUTR Version: 1.17.0 Command: /Library/Frameworks/R.framework/Resources/bin/R CMD check --install=check:diffUTR.install-out.txt --library=/Library/Frameworks/R.framework/Resources/library --no-vignettes --timings diffUTR_1.17.0.tar.gz StartedAt: 2025-10-24 19:28:58 -0400 (Fri, 24 Oct 2025) EndedAt: 2025-10-24 19:31:03 -0400 (Fri, 24 Oct 2025) EllapsedTime: 125.5 seconds RetCode: 0 Status: OK CheckDir: diffUTR.Rcheck Warnings: 0