Package: diffUTR Version: 1.17.0 Command: /Library/Frameworks/R.framework/Resources/bin/R CMD build --keep-empty-dirs --no-resave-data diffUTR StartedAt: 2025-10-24 16:15:47 -0400 (Fri, 24 Oct 2025) EndedAt: 2025-10-24 16:16:19 -0400 (Fri, 24 Oct 2025) EllapsedTime: 32.4 seconds RetCode: 0 Status: OK PackageFile: diffUTR_1.17.0.tar.gz PackageFileSize: 1.38 MiB