Package: diffHic Version: 1.41.0 Command: /home/biocbuild/bbs-3.22-bioc/R/bin/R CMD INSTALL diffHic StartedAt: 2025-10-24 15:43:38 -0400 (Fri, 24 Oct 2025) EndedAt: 2025-10-24 15:45:09 -0400 (Fri, 24 Oct 2025) EllapsedTime: 91.3 seconds RetCode: 0 Status: OK