Package: diffHic Version: 1.41.0 Command: /home/biocbuild/bbs-3.22-bioc/R/bin/R CMD check --install=check:diffHic.install-out.txt --library=/home/biocbuild/bbs-3.22-bioc/R/site-library --timings diffHic_1.41.0.tar.gz StartedAt: 2025-10-24 23:07:37 -0400 (Fri, 24 Oct 2025) EndedAt: 2025-10-24 23:13:30 -0400 (Fri, 24 Oct 2025) EllapsedTime: 352.3 seconds RetCode: 0 Status: OK CheckDir: diffHic.Rcheck Warnings: 0