Package: diffHic Version: 1.41.0 Command: /home/biocbuild/bbs-3.22-bioc/R/bin/R CMD build --keep-empty-dirs --no-resave-data --md5 diffHic StartedAt: 2025-10-24 17:28:56 -0400 (Fri, 24 Oct 2025) EndedAt: 2025-10-24 17:30:32 -0400 (Fri, 24 Oct 2025) EllapsedTime: 96.1 seconds RetCode: 0 Status: OK PackageFile: diffHic_1.41.0.tar.gz PackageFileSize: 1.521 MiB