Package: diffHic Version: 1.41.0 Command: rm -rf diffHic.buildbin-libdir && mkdir diffHic.buildbin-libdir && /Users/biocbuild/BBS/utils/build-universal.sh diffHic_1.41.0.tar.gz /Library/Frameworks/R.framework/Resources/bin/R diffHic.buildbin-libdir StartedAt: 2025-10-25 01:37:20 -0400 (Sat, 25 Oct 2025) EndedAt: 2025-10-25 01:39:21 -0400 (Sat, 25 Oct 2025) EllapsedTime: 120.2 seconds RetCode: 0 Status: OK PackageFile: diffHic_1.41.0.tgz PackageFileSize: 2.553 MiB