Package: diffHic Version: 1.41.0 Command: /Library/Frameworks/R.framework/Resources/bin/R CMD check --install=check:diffHic.install-out.txt --library=/Library/Frameworks/R.framework/Resources/library --no-vignettes --timings diffHic_1.41.0.tar.gz StartedAt: 2025-10-27 19:27:02 -0400 (Mon, 27 Oct 2025) EndedAt: 2025-10-27 19:29:21 -0400 (Mon, 27 Oct 2025) EllapsedTime: 138.7 seconds RetCode: 0 Status: OK CheckDir: diffHic.Rcheck Warnings: 0