Package: diffGeneAnalysis Version: 1.91.0 Command: /home/biocbuild/R/R/bin/R CMD check --install=check:diffGeneAnalysis.install-out.txt --library=/home/biocbuild/R/R/site-library --no-vignettes --timings diffGeneAnalysis_1.91.0.tar.gz StartedAt: 2025-10-21 07:30:34 -0000 (Tue, 21 Oct 2025) EndedAt: 2025-10-21 07:30:59 -0000 (Tue, 21 Oct 2025) EllapsedTime: 25.0 seconds RetCode: 0 Status: OK CheckDir: diffGeneAnalysis.Rcheck Warnings: 0