Package: diffGeneAnalysis Version: 1.91.0 Command: /Library/Frameworks/R.framework/Resources/bin/R CMD check --install=check:diffGeneAnalysis.install-out.txt --library=/Library/Frameworks/R.framework/Resources/library --no-vignettes --timings diffGeneAnalysis_1.91.0.tar.gz StartedAt: 2025-10-24 20:48:05 -0400 (Fri, 24 Oct 2025) EndedAt: 2025-10-24 20:48:32 -0400 (Fri, 24 Oct 2025) EllapsedTime: 26.5 seconds RetCode: 0 Status: OK CheckDir: diffGeneAnalysis.Rcheck Warnings: 0