Package: diffGeneAnalysis Version: 1.91.0 Command: rm -rf diffGeneAnalysis.buildbin-libdir && mkdir diffGeneAnalysis.buildbin-libdir && /Users/biocbuild/BBS/utils/build-universal.sh diffGeneAnalysis_1.91.0.tar.gz /Library/Frameworks/R.framework/Resources/bin/R diffGeneAnalysis.buildbin-libdir StartedAt: 2025-10-24 23:00:55 -0400 (Fri, 24 Oct 2025) EndedAt: 2025-10-24 23:00:57 -0400 (Fri, 24 Oct 2025) EllapsedTime: 2.0 seconds RetCode: 0 Status: OK PackageFile: diffGeneAnalysis_1.91.0.tgz PackageFileSize: 250.5 KiB