Package: derfinderPlot Version: 1.43.1 Command: /home/biocbuild/bbs-3.22-bioc/R/bin/R CMD build --keep-empty-dirs --no-resave-data --md5 derfinderPlot StartedAt: 2025-10-24 17:26:48 -0400 (Fri, 24 Oct 2025) EndedAt: 2025-10-24 17:30:07 -0400 (Fri, 24 Oct 2025) EllapsedTime: 199.2 seconds RetCode: 0 Status: OK PackageFile: derfinderPlot_1.43.1.tar.gz PackageFileSize: 2.418 MiB