Package: derfinderPlot Version: 1.44.0 Command: /Library/Frameworks/R.framework/Resources/bin/R CMD INSTALL derfinderPlot StartedAt: 2025-11-10 15:30:09 -0500 (Mon, 10 Nov 2025) EndedAt: 2025-11-10 15:30:32 -0500 (Mon, 10 Nov 2025) EllapsedTime: 22.6 seconds RetCode: 0 Status: OK