Package: derfinderPlot Version: 1.44.0 Command: /Library/Frameworks/R.framework/Resources/bin/R CMD build --keep-empty-dirs --no-resave-data derfinderPlot StartedAt: 2025-11-10 16:11:23 -0500 (Mon, 10 Nov 2025) EndedAt: 2025-11-10 16:12:47 -0500 (Mon, 10 Nov 2025) EllapsedTime: 83.9 seconds RetCode: 0 Status: OK PackageFile: derfinderPlot_1.44.0.tar.gz PackageFileSize: 2.478 MiB