Package: derfinderPlot Version: 1.44.0 Command: rm -rf derfinderPlot.buildbin-libdir && mkdir derfinderPlot.buildbin-libdir && /Users/biocbuild/BBS/utils/build-universal.sh derfinderPlot_1.44.0.tar.gz /Library/Frameworks/R.framework/Resources/bin/R derfinderPlot.buildbin-libdir StartedAt: 2025-11-10 23:17:46 -0500 (Mon, 10 Nov 2025) EndedAt: 2025-11-10 23:18:08 -0500 (Mon, 10 Nov 2025) EllapsedTime: 22.4 seconds RetCode: 0 Status: OK PackageFile: derfinderPlot_1.44.0.tgz PackageFileSize: 2.516 MiB