Package: derfinderHelper Version: 1.44.0 Command: /Library/Frameworks/R.framework/Resources/bin/R CMD INSTALL derfinderHelper StartedAt: 2025-11-02 15:07:41 -0500 (Sun, 02 Nov 2025) EndedAt: 2025-11-02 15:07:46 -0500 (Sun, 02 Nov 2025) EllapsedTime: 5.4 seconds RetCode: 0 Status: OK