Package: derfinderHelper Version: 1.44.0 Command: /Library/Frameworks/R.framework/Resources/bin/R CMD build --keep-empty-dirs --no-resave-data derfinderHelper StartedAt: 2025-11-03 16:11:13 -0500 (Mon, 03 Nov 2025) EndedAt: 2025-11-03 16:11:20 -0500 (Mon, 03 Nov 2025) EllapsedTime: 7.1 seconds RetCode: 0 Status: OK PackageFile: derfinderHelper_1.44.0.tar.gz PackageFileSize: 309.9 KiB