Package: derfinderHelper Version: 1.44.0 Command: rm -rf derfinderHelper.buildbin-libdir && mkdir derfinderHelper.buildbin-libdir && /Users/biocbuild/BBS/utils/build-universal.sh derfinderHelper_1.44.0.tar.gz /Library/Frameworks/R.framework/Resources/bin/R derfinderHelper.buildbin-libdir StartedAt: 2025-11-04 23:01:16 -0500 (Tue, 04 Nov 2025) EndedAt: 2025-11-04 23:01:22 -0500 (Tue, 04 Nov 2025) EllapsedTime: 5.1 seconds RetCode: 0 Status: OK PackageFile: derfinderHelper_1.44.0.tgz PackageFileSize: 323.2 KiB