Package: derfinder Version: 1.43.1 Command: /home/biocbuild/bbs-3.22-bioc/R/bin/R CMD INSTALL derfinder StartedAt: 2025-10-24 16:08:49 -0400 (Fri, 24 Oct 2025) EndedAt: 2025-10-24 16:09:34 -0400 (Fri, 24 Oct 2025) EllapsedTime: 45.2 seconds RetCode: 0 Status: OK