Package: derfinder Version: 1.43.1 Command: /home/biocbuild/bbs-3.22-bioc/R/bin/R CMD build --keep-empty-dirs --no-resave-data --md5 derfinder StartedAt: 2025-10-24 17:26:44 -0400 (Fri, 24 Oct 2025) EndedAt: 2025-10-24 17:31:58 -0400 (Fri, 24 Oct 2025) EllapsedTime: 314.2 seconds RetCode: 0 Status: OK PackageFile: derfinder_1.43.1.tar.gz PackageFileSize: 2.007 MiB