Package: densvis Version: 1.19.0 Command: /home/biocbuild/bbs-3.22-bioc/R/bin/R CMD INSTALL densvis StartedAt: 2025-10-28 15:10:39 -0400 (Tue, 28 Oct 2025) EndedAt: 2025-10-28 15:11:01 -0400 (Tue, 28 Oct 2025) EllapsedTime: 22.8 seconds RetCode: 0 Status: OK