Package: densvis Version: 1.19.0 Command: /home/biocbuild/bbs-3.22-bioc/R/bin/R CMD build --keep-empty-dirs --no-resave-data --md5 densvis StartedAt: 2025-10-27 17:17:03 -0400 (Mon, 27 Oct 2025) EndedAt: 2025-10-27 17:18:26 -0400 (Mon, 27 Oct 2025) EllapsedTime: 83.1 seconds RetCode: 0 Status: OK PackageFile: densvis_1.19.0.tar.gz PackageFileSize: 1.672 MiB