Package: demuxmix Version: 1.11.0 Command: /home/biocbuild/bbs-3.22-bioc/R/bin/R CMD INSTALL demuxmix StartedAt: 2025-10-24 15:18:27 -0400 (Fri, 24 Oct 2025) EndedAt: 2025-10-24 15:18:57 -0400 (Fri, 24 Oct 2025) EllapsedTime: 29.8 seconds RetCode: 0 Status: OK