Package: deltaCaptureC Version: 1.23.1 Command: /home/biocbuild/bbs-3.22-bioc/R/bin/R CMD INSTALL deltaCaptureC StartedAt: 2025-10-24 15:40:46 -0400 (Fri, 24 Oct 2025) EndedAt: 2025-10-24 15:41:18 -0400 (Fri, 24 Oct 2025) EllapsedTime: 32.1 seconds RetCode: 0 Status: OK