Package: deltaCaptureC Version: 1.24.0 Command: /Library/Frameworks/R.framework/Resources/bin/R CMD INSTALL deltaCaptureC StartedAt: 2025-11-03 15:32:36 -0500 (Mon, 03 Nov 2025) EndedAt: 2025-11-03 15:33:19 -0500 (Mon, 03 Nov 2025) EllapsedTime: 42.8 seconds RetCode: 0 Status: OK