Package: deltaCaptureC Version: 1.24.0 Command: /Library/Frameworks/R.framework/Resources/bin/R CMD build --keep-empty-dirs --no-resave-data deltaCaptureC StartedAt: 2025-11-03 16:45:20 -0500 (Mon, 03 Nov 2025) EndedAt: 2025-11-03 16:47:38 -0500 (Mon, 03 Nov 2025) EllapsedTime: 138.2 seconds RetCode: 0 Status: OK PackageFile: deltaCaptureC_1.24.0.tar.gz PackageFileSize: 331.8 KiB