Package: deltaCaptureC Version: 1.24.0 Command: rm -rf deltaCaptureC.buildbin-libdir && mkdir deltaCaptureC.buildbin-libdir && /Users/biocbuild/BBS/utils/build-universal.sh deltaCaptureC_1.24.0.tar.gz /Library/Frameworks/R.framework/Resources/bin/R deltaCaptureC.buildbin-libdir StartedAt: 2025-11-04 01:36:27 -0500 (Tue, 04 Nov 2025) EndedAt: 2025-11-04 01:37:14 -0500 (Tue, 04 Nov 2025) EllapsedTime: 47.1 seconds RetCode: 0 Status: OK PackageFile: deltaCaptureC_1.24.0.tgz PackageFileSize: 599.1 KiB