Package: decoupleR Version: 2.15.0 Command: /home/biocbuild/bbs-3.22-bioc/R/bin/R CMD build --keep-empty-dirs --no-resave-data --md5 decoupleR StartedAt: 2025-10-24 17:22:11 -0400 (Fri, 24 Oct 2025) EndedAt: 2025-10-24 17:24:48 -0400 (Fri, 24 Oct 2025) EllapsedTime: 157.2 seconds RetCode: 0 Status: OK PackageFile: decoupleR_2.15.0.tar.gz PackageFileSize: 4.483 MiB