Package: deconvR Version: 1.15.1 Command: /home/biocbuild/bbs-3.22-bioc/R/bin/R CMD INSTALL deconvR StartedAt: 2025-10-24 15:56:51 -0400 (Fri, 24 Oct 2025) EndedAt: 2025-10-24 15:57:41 -0400 (Fri, 24 Oct 2025) EllapsedTime: 49.5 seconds RetCode: 0 Status: OK