Package: deconvR Version: 1.15.1 Command: /Library/Frameworks/R.framework/Resources/bin/R CMD INSTALL deconvR StartedAt: 2025-10-24 15:26:04 -0400 (Fri, 24 Oct 2025) EndedAt: 2025-10-24 15:26:25 -0400 (Fri, 24 Oct 2025) EllapsedTime: 20.7 seconds RetCode: 0 Status: OK