Package: deconvR Version: 1.15.1 Command: /Library/Frameworks/R.framework/Resources/bin/R CMD build --keep-empty-dirs --no-resave-data deconvR StartedAt: 2025-10-24 16:11:08 -0400 (Fri, 24 Oct 2025) EndedAt: 2025-10-24 16:12:00 -0400 (Fri, 24 Oct 2025) EllapsedTime: 52.5 seconds RetCode: 0 Status: OK PackageFile: deconvR_1.15.1.tar.gz PackageFileSize: 3.794 MiB