Package: decontam Version: 1.30.0 Command: /home/biocbuild/bbs-3.22-bioc/R/bin/R CMD INSTALL decontam StartedAt: 2025-11-20 15:58:41 -0500 (Thu, 20 Nov 2025) EndedAt: 2025-11-20 15:59:01 -0500 (Thu, 20 Nov 2025) EllapsedTime: 19.9 seconds RetCode: 0 Status: OK