Package: decontX Version: 1.7.0 Command: /home/biocbuild/bbs-3.22-bioc/R/bin/R CMD INSTALL decontX StartedAt: 2025-10-27 15:59:55 -0400 (Mon, 27 Oct 2025) EndedAt: 2025-10-27 16:02:48 -0400 (Mon, 27 Oct 2025) EllapsedTime: 173.3 seconds RetCode: 0 Status: OK